Workbook

Sheet Desglose Precio x trabajador
B1: DESGLOSE POR TRABAJADOR/A PREVISTO EN ANEXO I
C3: ENTIDAD
D5: CAPITAL | E5: 15000 | F5: 17000 | G5: 15000 | H5: 17000 | I5: (*) Entendiendo que la tarifa incluye cobertura IPT, IPA y Gran Invalidez
E6: PRIMA NETA (UNITARIA) | J6: IMPUESTOS Y RECARGOS | M6: PRIMA TOTAL ANUAL DE CADA TRABAJADOR
B7: Nº Ref Trabajador/a Anexo I | C7: =+'Anexo I'!C3 -> Fecha Nacimiento | D7: EDAD A EFECTOS DE SEGURO | E7: FALLECIMIENTO | F7: FALLECIMIENTO POR ACCIDENTE | G7: INCAPACIDAD (*) | H7: INCAPACIDAD POR ACCIDENTE (*) | I7: PRIMA NETA TOTAL | J7: RECARGO LIQUIDACION ENTIDADES ASEGURADORAS | K7: IPS | L7: CONSORCIO (CSS)
A8: =+'Anexo I'!A4 -> 1 | B8: =+'Anexo I'!B4 -> 61 | C8: =+'Anexo I'!C4 -> 28715
A9: =+'Anexo I'!A5 -> 2 | B9: =+'Anexo I'!B5 -> 4 | C9: =+'Anexo I'!C5 -> 29993.042
A10: =+'Anexo I'!A6 -> 3 | B10: =+'Anexo I'!B6 -> 19 | C10: =+'Anexo I'!C6 -> 25169.042
A11: =+'Anexo I'!A7 -> 4 | B11: =+'Anexo I'!B7 -> 59 | C11: =+'Anexo I'!C7 -> 29118
A12: =+'Anexo I'!A8 -> 5 | B12: =+'Anexo I'!B8 -> 84 | C12: =+'Anexo I'!C8 -> 25212
A13: =+'Anexo I'!A9 -> 6 | B13: =+'Anexo I'!B9 -> 68 | C13: =+'Anexo I'!C9 -> 26720.042
A14: =+'Anexo I'!A10 -> 7 | B14: =+'Anexo I'!B10 -> 66 | C14: =+'Anexo I'!C10 -> 28322.083
A15: =+'Anexo I'!A11 -> 8 | B15: =+'Anexo I'!B11 -> 1 | C15: =+'Anexo I'!C11 -> 24726.083
A16: =+'Anexo I'!A12 -> 9 | B16: =+'Anexo I'!B12 -> 1026 | C16: =+'Anexo I'!C12 -> 25470.083
A17: =+'Anexo I'!A13 -> 10 | B17: =+'Anexo I'!B13 -> 12 | C17: =+'Anexo I'!C13 -> 22518.083
A18: =+'Anexo I'!A14 -> 11 | B18: =+'Anexo I'!B14 -> 10 | C18: =+'Anexo I'!C14 -> 23645.083
A19: =+'Anexo I'!A15 -> 12 | B19: =+'Anexo I'!B15 -> 52 | C19: =+'Anexo I'!C15 -> 28609
... A48: =+'Anexo I'!A44 -> 41 | B48: =+'Anexo I'!B44 -> 22 | C48: =+'Anexo I'!C44 -> 23840
A49: =+'Anexo I'!F4 -> 42 | B49: =+'Anexo I'!G4 -> 21 | C49: =+'Anexo I'!H4 -> 26427.083
A50: =+'Anexo I'!F5 -> 43 | B50: =+'Anexo I'!G5 -> 54 | C50: =+'Anexo I'!H5 -> 27717.042
A51: =+'Anexo I'!F6 -> 44 | B51: =+'Anexo I'!G6 -> 35 | C51: =+'Anexo I'!H6 -> 26208.083
A52: =+'Anexo I'!F7 -> 45 | B52: =+'Anexo I'!G7 -> 69 | C52: =+'Anexo I'!H7 -> 32514
A53: =+'Anexo I'!F8 -> 46 | B53: =+'Anexo I'!G8 -> 9 | C53: =+'Anexo I'!H8 -> 21865.042
A54: =+'Anexo I'!F9 -> 47 | B54: =+'Anexo I'!G9 -> 45 | C54: =+'Anexo I'!H9 -> 24437.042
A55: =+'Anexo I'!F10 -> 48 | B55: =+'Anexo I'!G10 -> 112 | C55: =+'Anexo I'!H10 -> 28363.083
A56: =+'Anexo I'!F11 -> 49 | B56: =+'Anexo I'!G11 -> 32 | C56: =+'Anexo I'!H11 -> 31366.042
A57: =+'Anexo I'!F12 -> 50 | B57: =+'Anexo I'!G12 -> 16 | C57: =+'Anexo I'!H12 -> 24059
A58: =+'Anexo I'!F13 -> 51 | B58: =+'Anexo I'!G13 -> 58 | C58: =+'Anexo I'!H13 -> 28614
A59: =+'Anexo I'!F14 -> 52 | B59: =+'Anexo I'!G14 -> 11 | C59: =+'Anexo I'!H14 -> 24476
A60: =+'Anexo I'!F15 -> 53 | B60: =+'Anexo I'!G15 -> 57 | C60: =+'Anexo I'!H15 -> 27985.083
... A88: =+'Anexo I'!F43 -> 81 | B88: =+'Anexo I'!G43 -> 148 | C88: =+'Anexo I'!H43 -> 29227
L89: TOTAL PRIMA ANUAL OFERTADA

Sheet Desglose Precio x edad
B1: DESGLOSE POR EDAD
C3: ENTIDAD
B5: CAPITAL | C5: 15000 | D5: 17000 | E5: 15000 | F5: 17000 | G5: (*) Entendiendo que la tarifa incluye cobertura IPT, IPA y Gran Invalidez
C6: PRIMA NETA (UNITARIA) | H6: IMPUESTOS Y RECARGOS | K6: PRIMA TOTAL ANUAL (UNITARIA) | L6: Nº Asegurados/as previstos en Anexo I | M6: PRIMA TOTAL ANUAL POR NUM. ASEG.
B7: EDAD | C7: FALLECIMIENTO | D7: FALLECIMIENTO POR ACCIDENTE | E7: INCAPACIDAD (*) | F7: INCAPACIDAD POR ACCIDENTE (*) | G7: PRIMA NETA TOTAL | H7: RECARGO LIQUIDACION ENTIDADES ASEGURADORAS | I7: IPS | J7: CONSORCIO (CSS)
B8: 18
B9: =+B8+1 -> 19
B10: =+B9+1 -> 20
B11: =+B10+1 -> 21
B12: =+B11+1 -> 22
B13: =+B12+1 -> 23
B14: =+B13+1 -> 24
B15: =+B14+1 -> 25
B16: =+B15+1 -> 26
B17: =+B16+1 -> 27
B18: =+B17+1 -> 28
B19: =+B18+1 -> 29
B20: =+B19+1 -> 30
... B65: =+B64+1 -> 75
H66: TOTAL PRIMA ANUAL OFERTADA

Sheet Anexo I
B1: ANEXO I. FECHAS DE NACIMIENTO DE LAS PERSONAS TRABAJADORAS DE FORTA
B3: Nº Ref Trabajador/a | C3: Fecha Nacimiento | D3: Observaciones | G3: Nº Ref Trabajador/a | H3: Fecha Nacimiento | I3: Observaciones
A4: 1 | B4: 61 | C4: 28715 | F4: 42 | G4: 21 | H4: 26427.083
A5: 2 | B5: 4 | C5: 29993.042 | F5: 43 | G5: 54 | H5: 27717.042
A6: 3 | B6: 19 | C6: 25169.042 | F6: 44 | G6: 35 | H6: 26208.083
A7: 4 | B7: 59 | C7: 29118 | F7: 45 | G7: 69 | H7: 32514
A8: 5 | B8: 84 | C8: 25212 | F8: 46 | G8: 9 | H8: 21865.042
A9: 6 | B9: 68 | C9: 26720.042 | F9: 47 | G9: 45 | H9: 24437.042
A10: 7 | B10: 66 | C10: 28322.083 | F10: 48 | G10: 112 | H10: 28363.083
A11: 8 | B11: 1 | C11: 24726.083 | D11: ILT superior a 180 días | F11: 49 | G11: 32 | H11: 31366.042
A12: 9 | B12: 1026 | C12: 25470.083 | F12: 50 | G12: 16 | H12: 24059
A13: 10 | B13: 12 | C13: 22518.083 | D13: ILT superior a 180 días | F13: 51 | G13: 58 | H13: 28614
A14: 11 | B14: 10 | C14: 23645.083 | F14: 52 | G14: 11 | H14: 24476
A15: 12 | B15: 52 | C15: 28609 | F15: 53 | G15: 57 | H15: 27985.083
A16: 13 | B16: 31 | C16: 29713.083 | F16: 54 | G16: 43 | H16: 28247.083
A17: 14 | B17: 29 | C17: 30242.083 | F17: 55 | G17: 15 | H17: 23744.042
A18: 15 | B18: 18 | C18: 25032.083 | F18: 56 | G18: 17 | H18: 24496
A19: 16 | B19: 60 | C19: 30001.042 | F19: 57 | G19: 67 | H19: 30075
A20: 17 | B20: 110 | C20: 30481 | F20: 58 | G20: 75 | H20: 30959.083
A21: 18 | B21: 63 | C21: 27710.042 | F21: 59 | G21: 14 | H21: 24066
A22: 19 | B22: 50 | C22: 25112 | F22: 60 | G22: 51 | H22: 26174
A23: 20 | B23: 48 | C23: 25841 | F23: 61 | G23: 1027 | H23: 25843.083
A24: 21 | B24: 38 | C24: 24180.042 | F24: 62 | G24: 5 | H24: 30765.042
A25: 22 | B25: 64 | C25: 28284.083 | F25: 63 | G25: 49 | H25: 26221
... A38: 35 | B38: 40 | C38: 26849.083 | F38: 76 | G38: 137 | H38: 36576
A39: 36 | B39: 37 | C39: 21344.083 | F39: 77 | G39: 139 | H39: 37618 | I39: Prev. alta en colectivo antes del 31/12/25, siempre que supere su período de prueba
A40: 37 | B40: 46 | C40: 24727.083 | F40: 78 | G40: 140 | H40: 28135 | I40: Prev. alta en colectivo antes del 31/12/25, siempre que supere su período de prueba
A41: 38 | B41: 13 | C41: 23943.083 | F41: 79 | G41: 141 | H41: 26000 | I41: Prev. alta en colectivo antes del 31/12/25, siempre que supere su período de prueba
A42: 39 | B42: 56 | C42: 29592 | F42: 80 | G42: 145 | H42: 33509 | I42: Prev. alta en colectivo antes del 31/12/25, siempre que supere su período de prueba
A43: 40 | B43: 113 | C43: 30090 | F43: 81 | G43: 148 | H43: 29227 | I43: Prev. alta en colectivo antes del 31/12/25, siempre que supere su período de prueba
A44: 41 | B44: 22 | C44: 23840
